BEGIN:VCALENDAR
VERSION:2.0
PRODID:-//Tarrytown Environmental Advisory Council - ECPv6.15.20//NONSGML v1.0//EN
CALSCALE:GREGORIAN
METHOD:PUBLISH
X-ORIGINAL-URL:https://tarrytownenvironmental.org
X-WR-CALDESC:Events for Tarrytown Environmental Advisory Council
REFRESH-INTERVAL;VALUE=DURATION:PT1H
X-Robots-Tag:noindex
X-PUBLISHED-TTL:PT1H
BEGIN:VTIMEZONE
TZID:America/New_York
BEGIN:DAYLIGHT
TZOFFSETFROM:-0500
TZOFFSETTO:-0400
TZNAME:EDT
DTSTART:20230312T070000
END:DAYLIGHT
BEGIN:STANDARD
TZOFFSETFROM:-0400
TZOFFSETTO:-0500
TZNAME:EST
DTSTART:20231105T060000
END:STANDARD
BEGIN:DAYLIGHT
TZOFFSETFROM:-0500
TZOFFSETTO:-0400
TZNAME:EDT
DTSTART:20240310T070000
END:DAYLIGHT
BEGIN:STANDARD
TZOFFSETFROM:-0400
TZOFFSETTO:-0500
TZNAME:EST
DTSTART:20241103T060000
END:STANDARD
BEGIN:DAYLIGHT
TZOFFSETFROM:-0500
TZOFFSETTO:-0400
TZNAME:EDT
DTSTART:20250309T070000
END:DAYLIGHT
BEGIN:STANDARD
TZOFFSETFROM:-0400
TZOFFSETTO:-0500
TZNAME:EST
DTSTART:20251102T060000
END:STANDARD
END:VTIMEZONE
BEGIN:VEVENT
DTSTART;TZID=America/New_York:20240602T090000
DTEND;TZID=America/New_York:20240602T140000
DTSTAMP:20260421T185427
CREATED:20240529T224517Z
LAST-MODIFIED:20240529T225659Z
UID:3475-1717318800-1717336800@tarrytownenvironmental.org
SUMMARY:Clothing and Housewares SWAP - SUNDAY\, June 2\, 2024
DESCRIPTION:Give and Take!  Bring your clean\, good-condition\, quality items to swap for something new! \nSunday\, June 2\, 2024\nItem drop off: 9am – Noon\n“Shopping”: 10am – 2pm \nLocated indoors at The Neighborhood House\n43 Wildey St\, Tarrytown\, NY 10591\nYou’ll find us at the NW corner of Wildey St & Washington St. \nPlease be sure that your swap items are in good shape! We are looking for CLEAN items in good condition. Please only bring items that someone else would really love! For Clothing\, nothing too faded\, no rips\, tears\, holes\, or stains. No underwear or lingerie please. For housewares\, bring only CLEAN working items in good condition. Nothing in need of repair please. \n***We are doing a textile recycling collection so feel free to bring those “unswappable” clothing\, shoes\, and linen items in a SEPARATE bag for quick sorting at the event.
URL:https://tarrytownenvironmental.org/event/clothing-and-housewares-swap-sunday-6-2-24/
LOCATION:The Neighborhood House\, 43 Wildey St\, Tarryown\, NY\, 10591\, United States
CATEGORIES:Environmental Sustainability,Family Event,Zero Waste
ATTACH;FMTTYPE=image/jpeg:https://tarrytownenvironmental.org/wp-content/uploads/2024/05/June-2-2024-SWAP-Flyer.jpg
ORGANIZER;CN="TEAC":MAILTO:info@tarrytownenvironmental.org
END:VEVENT
END:VCALENDAR