BEGIN:VCALENDAR
VERSION:2.0
PRODID:-//Tarrytown Environmental Advisory Council - ECPv6.15.20//NONSGML v1.0//EN
CALSCALE:GREGORIAN
METHOD:PUBLISH
X-WR-CALNAME:Tarrytown Environmental Advisory Council
X-ORIGINAL-URL:https://tarrytownenvironmental.org
X-WR-CALDESC:Events for Tarrytown Environmental Advisory Council
REFRESH-INTERVAL;VALUE=DURATION:PT1H
X-Robots-Tag:noindex
X-PUBLISHED-TTL:PT1H
BEGIN:VTIMEZONE
TZID:America/New_York
BEGIN:DAYLIGHT
TZOFFSETFROM:-0500
TZOFFSETTO:-0400
TZNAME:EDT
DTSTART:20230312T070000
END:DAYLIGHT
BEGIN:STANDARD
TZOFFSETFROM:-0400
TZOFFSETTO:-0500
TZNAME:EST
DTSTART:20231105T060000
END:STANDARD
BEGIN:DAYLIGHT
TZOFFSETFROM:-0500
TZOFFSETTO:-0400
TZNAME:EDT
DTSTART:20240310T070000
END:DAYLIGHT
BEGIN:STANDARD
TZOFFSETFROM:-0400
TZOFFSETTO:-0500
TZNAME:EST
DTSTART:20241103T060000
END:STANDARD
BEGIN:DAYLIGHT
TZOFFSETFROM:-0500
TZOFFSETTO:-0400
TZNAME:EDT
DTSTART:20250309T070000
END:DAYLIGHT
BEGIN:STANDARD
TZOFFSETFROM:-0400
TZOFFSETTO:-0500
TZNAME:EST
DTSTART:20251102T060000
END:STANDARD
END:VTIMEZONE
BEGIN:VEVENT
DTSTART;TZID=America/New_York:20240302T100000
DTEND;TZID=America/New_York:20240302T120000
DTSTAMP:20260422T035841
CREATED:20240119T212853Z
LAST-MODIFIED:20240119T212853Z
UID:3362-1709373600-1709380800@tarrytownenvironmental.org
SUMMARY:Vine Squad
DESCRIPTION:Come help TEAC clear invasive vines and save the trees! \nMore info and sign-up:  \nhttps://tarrytownenvironmental.org/teac-vine-squad 
URL:https://tarrytownenvironmental.org/event/vine-squad-3/
LOCATION:Trails Parking Lot on Wilson Park Drive ay County House Rd\, Wilson Park Drive\, Tarrytown\, 10591\, United States
CATEGORIES:Environmental Sustainability,Outdoor Event
ORGANIZER;CN="TEAC":MAILTO:info@tarrytownenvironmental.org
END:VEVENT
BEGIN:VEVENT
DTSTART;TZID=America/New_York:20240316T100000
DTEND;TZID=America/New_York:20240316T120000
DTSTAMP:20260422T035841
CREATED:20240119T213044Z
LAST-MODIFIED:20240119T213044Z
UID:3364-1710583200-1710590400@tarrytownenvironmental.org
SUMMARY:Vine Squad
DESCRIPTION:Come help TEAC clear invasive vines and save the trees! \nMore info and sign-up:  \nhttps://tarrytownenvironmental.org/teac-vine-squad 
URL:https://tarrytownenvironmental.org/event/vine-squad-4/
LOCATION:Trails Parking Lot on Wilson Park Drive ay County House Rd\, Wilson Park Drive\, Tarrytown\, 10591\, United States
CATEGORIES:Environmental Sustainability,Outdoor Event
ORGANIZER;CN="TEAC":MAILTO:info@tarrytownenvironmental.org
END:VEVENT
BEGIN:VEVENT
DTSTART;TZID=America/New_York:20240330T100000
DTEND;TZID=America/New_York:20240330T120000
DTSTAMP:20260422T035841
CREATED:20240119T213115Z
LAST-MODIFIED:20240326T133032Z
UID:3366-1711792800-1711800000@tarrytownenvironmental.org
SUMMARY:Vine Squad
DESCRIPTION:Come help TEAC clear invasive vines and save the trees! \nMore info and sign-up:  \nhttps://tarrytownenvironmental.org/teac-vine-squad 
URL:https://tarrytownenvironmental.org/event/vine-squad-5/
LOCATION:Trails Parking Lot on Wilson Park Drive ay County House Rd\, Wilson Park Drive\, Tarrytown\, 10591\, United States
CATEGORIES:Environmental Sustainability,Outdoor Event
ORGANIZER;CN="TEAC":MAILTO:info@tarrytownenvironmental.org
END:VEVENT
END:VCALENDAR