BEGIN:VCALENDAR
VERSION:2.0
PRODID:-//Tarrytown Environmental Advisory Council - ECPv6.15.20//NONSGML v1.0//EN
CALSCALE:GREGORIAN
METHOD:PUBLISH
X-ORIGINAL-URL:https://tarrytownenvironmental.org
X-WR-CALDESC:Events for Tarrytown Environmental Advisory Council
REFRESH-INTERVAL;VALUE=DURATION:PT1H
X-Robots-Tag:noindex
X-PUBLISHED-TTL:PT1H
BEGIN:VTIMEZONE
TZID:America/New_York
BEGIN:DAYLIGHT
TZOFFSETFROM:-0500
TZOFFSETTO:-0400
TZNAME:EDT
DTSTART:20220313T070000
END:DAYLIGHT
BEGIN:STANDARD
TZOFFSETFROM:-0400
TZOFFSETTO:-0500
TZNAME:EST
DTSTART:20221106T060000
END:STANDARD
BEGIN:DAYLIGHT
TZOFFSETFROM:-0500
TZOFFSETTO:-0400
TZNAME:EDT
DTSTART:20230312T070000
END:DAYLIGHT
BEGIN:STANDARD
TZOFFSETFROM:-0400
TZOFFSETTO:-0500
TZNAME:EST
DTSTART:20231105T060000
END:STANDARD
BEGIN:DAYLIGHT
TZOFFSETFROM:-0500
TZOFFSETTO:-0400
TZNAME:EDT
DTSTART:20240310T070000
END:DAYLIGHT
BEGIN:STANDARD
TZOFFSETFROM:-0400
TZOFFSETTO:-0500
TZNAME:EST
DTSTART:20241103T060000
END:STANDARD
END:VTIMEZONE
BEGIN:VEVENT
DTSTART;TZID=America/New_York:20230917T090000
DTEND;TZID=America/New_York:20230917T123000
DTSTAMP:20260422T150014
CREATED:20230708T232937Z
LAST-MODIFIED:20230709T030656Z
UID:3257-1694941200-1694953800@tarrytownenvironmental.org
SUMMARY:Hudson River Valley Ramble - Kayak Across the River!
DESCRIPTION:Come cross the Hudson River in your kayak with us! This crossing will take approximately 1-1/2 hours in each direction and will include a 20-minute break on the Nyack shoreline.  \nThere will be safety boat escorts\, but only experienced kayakers with the stamina to paddle 7 miles round-trip at an average rate of 2.5 knots should register. Life jackets must be worn at all times.  \nParticipants must provide their own boat and gear – paddle\, whistle\, pump\, skirt (optional). Must be at least 18 years old to participate. Register HERE\, or scan the QR: \n  \nAbout the Ramble \nThe Hudson River Valley Ramble is an annual event series that celebrates the history\, culture and natural resources of the Maurice D. Hinchey Hudson River Valley National Heritage Area\, as well as the amazing landscape\, communities\, and trails throughout the region.\nEvery September\, participation continues to grow. Ramblers come not only from the Hudson Valley region and New York State but from other regions of the country as well to discover the riches our Valley has to offer. Whether you are interested in a challenging hike\, bike ride or paddle\, an inspiring walk through the grounds and homes of some of the Valleys most notable artists\, authors\, and Great Americans\, a trip back in time to experience the significant role the region played in the Revolutionary War\, or a family-fun festival or river exploration event\, the Hudson River Valley Ramble truly offers something for everyone! \nWhat kind of events are “Ramble” events?\nThe Hudson River Valley Ramble celebrates the trails\, the river and the historic and cultural resources of the Hudson River Valley Greenway and Maurice D. Hinchey Hudson River Valley National Heritage Area. Many Ramble events connect heritage and recreation. \nWhat does this mean? Many Ramble events highlight themes of the Maurice D. Hinchey Hudson River Valley National Heritage Area such as the Revolutionary War\, Great Estates\, Hudson River School artists\, designated Greenway Trails\, and the Hudson River Estuary. Ramble events are generally outdoors\, or include an outdoor portion\, and are guided and/or offer an interpretation of the landscape\, history\, or ecology of the area. They can be guided walks\, hikes\, bike tours\, kayak or canoe trips; a family festival\, or a river exploration. \nWhere? The geographic area of the Hudson River Valley Greenway and Maurice D. Hinchey National Heritage Area includes all of the municipalities within these counties: Albany\, Columbia\, Dutchess\, Greene\, Orange\, Putnam\, Rensselaer\, Rockland\, Saratoga\, Ulster; Washington\, Westchester\, and those portions of New York and Bronx counties adjacent to the Hudson River and within the city’s waterfront revitalization program area.
URL:https://tarrytownenvironmental.org/event/hudson-river-valley-ramble-kayak-across-the-river/
LOCATION:NY
CATEGORIES:Outdoor Event
ATTACH;FMTTYPE=image/jpeg:https://tarrytownenvironmental.org/wp-content/uploads/2023/07/Dean-Kayak-Bridge-scaled-e1688858830865.jpeg
END:VEVENT
END:VCALENDAR