BEGIN:VCALENDAR
VERSION:2.0
PRODID:-//Tarrytown Environmental Advisory Council - ECPv6.15.20//NONSGML v1.0//EN
CALSCALE:GREGORIAN
METHOD:PUBLISH
X-WR-CALNAME:Tarrytown Environmental Advisory Council
X-ORIGINAL-URL:https://tarrytownenvironmental.org
X-WR-CALDESC:Events for Tarrytown Environmental Advisory Council
REFRESH-INTERVAL;VALUE=DURATION:PT1H
X-Robots-Tag:noindex
X-PUBLISHED-TTL:PT1H
BEGIN:VTIMEZONE
TZID:America/New_York
BEGIN:DAYLIGHT
TZOFFSETFROM:-0500
TZOFFSETTO:-0400
TZNAME:EDT
DTSTART:20220313T070000
END:DAYLIGHT
BEGIN:STANDARD
TZOFFSETFROM:-0400
TZOFFSETTO:-0500
TZNAME:EST
DTSTART:20221106T060000
END:STANDARD
BEGIN:DAYLIGHT
TZOFFSETFROM:-0500
TZOFFSETTO:-0400
TZNAME:EDT
DTSTART:20230312T070000
END:DAYLIGHT
BEGIN:STANDARD
TZOFFSETFROM:-0400
TZOFFSETTO:-0500
TZNAME:EST
DTSTART:20231105T060000
END:STANDARD
BEGIN:DAYLIGHT
TZOFFSETFROM:-0500
TZOFFSETTO:-0400
TZNAME:EDT
DTSTART:20240310T070000
END:DAYLIGHT
BEGIN:STANDARD
TZOFFSETFROM:-0400
TZOFFSETTO:-0500
TZNAME:EST
DTSTART:20241103T060000
END:STANDARD
END:VTIMEZONE
BEGIN:VEVENT
DTSTART;TZID=America/New_York:20230813T090000
DTEND;TZID=America/New_York:20230813T110000
DTSTAMP:20260422T164235
CREATED:20230811T164309Z
LAST-MODIFIED:20230811T170027Z
UID:3266-1691917200-1691924400@tarrytownenvironmental.org
SUMMARY:Clean Up the Lakes Trails With TEAC!
DESCRIPTION:Clean Up the Lakes Trails With Us! \nSunday 8/13 and Saturday 8/19\nTime: 9am – 11am \nMeet: Trails Parking Lot on Wilson Park Drive at County House Rd \nRegister HERE .
URL:https://tarrytownenvironmental.org/event/clean-up-the-lakes-trails-with-teac/
LOCATION:Trails Parking Lot on Wilson Park Drive ay County House Rd\, Wilson Park Drive\, Tarrytown\, 10591\, United States
CATEGORIES:Outdoor Event
ATTACH;FMTTYPE=image/jpeg:https://tarrytownenvironmental.org/wp-content/uploads/2023/08/Trail-e1691772126360.jpg
ORGANIZER;CN="TEAC":MAILTO:info@tarrytownenvironmental.org
END:VEVENT
BEGIN:VEVENT
DTSTART;TZID=America/New_York:20230819T080000
DTEND;TZID=America/New_York:20230819T170000
DTSTAMP:20260422T164235
CREATED:20230811T165548Z
LAST-MODIFIED:20230811T165934Z
UID:3270-1692432000-1692464400@tarrytownenvironmental.org
SUMMARY:Clean Up the Lakes Trails With TEAC!
DESCRIPTION:Clean Up the Lakes Trails With Us! \nSunday 8/13 and Saturday 8/19\nTime: 9am – 11am \nMeet: Trails Parking Lot on Wilson Park Drive at County House Rd \nRegister HERE.
URL:https://tarrytownenvironmental.org/event/clean-up-the-lakes-trails-with-teac-2/
LOCATION:Trails Parking Lot on Wilson Park Drive ay County House Rd\, Wilson Park Drive\, Tarrytown\, 10591\, United States
CATEGORIES:Outdoor Event
ATTACH;FMTTYPE=image/jpeg:https://tarrytownenvironmental.org/wp-content/uploads/2023/08/Trail-e1691772126360.jpg
ORGANIZER;CN="TEAC":MAILTO:info@tarrytownenvironmental.org
END:VEVENT
END:VCALENDAR