BEGIN:VCALENDAR
VERSION:2.0
PRODID:-//Tarrytown Environmental Advisory Council - ECPv6.15.20//NONSGML v1.0//EN
CALSCALE:GREGORIAN
METHOD:PUBLISH
X-WR-CALNAME:Tarrytown Environmental Advisory Council
X-ORIGINAL-URL:https://tarrytownenvironmental.org
X-WR-CALDESC:Events for Tarrytown Environmental Advisory Council
REFRESH-INTERVAL;VALUE=DURATION:PT1H
X-Robots-Tag:noindex
X-PUBLISHED-TTL:PT1H
BEGIN:VTIMEZONE
TZID:America/New_York
BEGIN:DAYLIGHT
TZOFFSETFROM:-0500
TZOFFSETTO:-0400
TZNAME:EDT
DTSTART:20220313T070000
END:DAYLIGHT
BEGIN:STANDARD
TZOFFSETFROM:-0400
TZOFFSETTO:-0500
TZNAME:EST
DTSTART:20221106T060000
END:STANDARD
BEGIN:DAYLIGHT
TZOFFSETFROM:-0500
TZOFFSETTO:-0400
TZNAME:EDT
DTSTART:20230312T070000
END:DAYLIGHT
BEGIN:STANDARD
TZOFFSETFROM:-0400
TZOFFSETTO:-0500
TZNAME:EST
DTSTART:20231105T060000
END:STANDARD
BEGIN:DAYLIGHT
TZOFFSETFROM:-0500
TZOFFSETTO:-0400
TZNAME:EDT
DTSTART:20240310T070000
END:DAYLIGHT
BEGIN:STANDARD
TZOFFSETFROM:-0400
TZOFFSETTO:-0500
TZNAME:EST
DTSTART:20241103T060000
END:STANDARD
END:VTIMEZONE
BEGIN:VEVENT
DTSTART;TZID=America/New_York:20230204T100000
DTEND;TZID=America/New_York:20230204T120000
DTSTAMP:20260423T080346
CREATED:20230128T030550Z
LAST-MODIFIED:20230128T030550Z
UID:2900-1675504800-1675512000@tarrytownenvironmental.org
SUMMARY:The Vine Squad Is On It!
DESCRIPTION:The Tarrytown Environmental Advisory Council is looking for volunteers to join its Volunteer Vine Squad to help remove invasive vines around the Tarrytown Lakes and in public parks. Sturdy boots\, long sleeves\, and gloves are recommended. Training will be provided and the team will (typically) meet on the first and third Saturday of the month. Sign up for an upcoming date below! \nSign up here
URL:https://tarrytownenvironmental.org/event/the-vine-squad-is-on-it/
LOCATION:Tarrytown Lakes Parking Lot\, Neperan and Sunnyside\, Tarrytown\, NY\, 10591\, United States
CATEGORIES:Outdoor Event
ATTACH;FMTTYPE=image/jpeg:https://tarrytownenvironmental.org/wp-content/uploads/2022/05/Wilson-Park-3-scaled-e1674875116992.jpg
ORGANIZER;CN="TEAC":MAILTO:info@tarrytownenvironmental.org
END:VEVENT
END:VCALENDAR