BEGIN:VCALENDAR
VERSION:2.0
PRODID:-//Tarrytown Environmental Advisory Council - ECPv6.15.20//NONSGML v1.0//EN
CALSCALE:GREGORIAN
METHOD:PUBLISH
X-ORIGINAL-URL:https://tarrytownenvironmental.org
X-WR-CALDESC:Events for Tarrytown Environmental Advisory Council
REFRESH-INTERVAL;VALUE=DURATION:PT1H
X-Robots-Tag:noindex
X-PUBLISHED-TTL:PT1H
BEGIN:VTIMEZONE
TZID:America/New_York
BEGIN:DAYLIGHT
TZOFFSETFROM:-0500
TZOFFSETTO:-0400
TZNAME:EDT
DTSTART:20210314T070000
END:DAYLIGHT
BEGIN:STANDARD
TZOFFSETFROM:-0400
TZOFFSETTO:-0500
TZNAME:EST
DTSTART:20211107T060000
END:STANDARD
BEGIN:DAYLIGHT
TZOFFSETFROM:-0500
TZOFFSETTO:-0400
TZNAME:EDT
DTSTART:20220313T070000
END:DAYLIGHT
BEGIN:STANDARD
TZOFFSETFROM:-0400
TZOFFSETTO:-0500
TZNAME:EST
DTSTART:20221106T060000
END:STANDARD
BEGIN:DAYLIGHT
TZOFFSETFROM:-0500
TZOFFSETTO:-0400
TZNAME:EDT
DTSTART:20230312T070000
END:DAYLIGHT
BEGIN:STANDARD
TZOFFSETFROM:-0400
TZOFFSETTO:-0500
TZNAME:EST
DTSTART:20231105T060000
END:STANDARD
END:VTIMEZONE
BEGIN:VEVENT
DTSTART;TZID=America/New_York:20221001T100000
DTEND;TZID=America/New_York:20221001T140000
DTSTAMP:20260423T143023
CREATED:20220926T052338Z
LAST-MODIFIED:20220928T004445Z
UID:2823-1664618400-1664632800@tarrytownenvironmental.org
SUMMARY:TEAC's Eco Fair - Oct 1st\, 10-2
DESCRIPTION:The Tarrytown Environmental Advisory Council (TEAC) is hosting its annual Eco Fair on October 1\, 2022 at Patriots Park from 10am to 2pm\, in collaboration with the Village of Tarrytown and The TaSH Farmers Market.  \nCome learn more about zero waste\, alternative energy and solar power\, food scraps recycling and composting\, local sustainability initiatives\, programs and policies\, home energy savings\, sustainable DIY projects\, healthy lawns\, Pollinator Pathways\, healthy lawns\, native plants\, the Hudson River\, local waterways\, and MORE.   \nThere will be something for the whole family including kids activities\, Halloween costume swap and upcycling\, eco art\, sustainable and repurposed gifts\, games\, live music\, tree giveaway\, book swap\, bike swap\, an electric lawn equipment demo\, in addition to all the fresh local food vendors at the TaSH farmers market!   \nThere will be two demonstrations of the Village’s new electric lawn equipment (lawn mower\, weed whacker\, hedge trimmer and leaf blower) with Anthony Ross\, the Tarrytown Parks foreman. 12 noon and 1pm – join us! \nParticipants: Federated Conservationists of Westchester (FCWC)\, Hackley Lake Keepers\, Kindbone\, League of Women Voters Rivertowns\, Mothers Out Front\, Riverkeeper\, Sleepy Hollow Environmental Advisory Council\, Sun Blue Energy\, Sustainable Westchester\, The Refillery Shop\, Save Westchester\, Bike Tarrytown\, Save Pocantico Lake\, Rewilding School\, Plan It Wild\, Village of Tarrytown Parks Department\, the Tarrytown Tree Commission and more to come. If you or your organization would like to be an exhibitor\, please Register Here. \nThe Eco Fair brings together community sustainability organizations and local businesses to educate and share ideas to enrich our Villages and enhance the environment. It is an opportunity for community members to increase awareness and engage on environmental issues. The goal is to highlight things that we can all do at home and in our neighborhoods.  \n\nDate: October 1\, 2022 (Rain or Shine) \nLocation: Southwest corner of Patriots Park\, Tarrytown NY (Next to Washington St Entrance)\nTime: 10am – 2pm\n\n Volunteers Needed! Please contact tarrytownenviro@gmail.com for info. Community service hours will be awarded. \nTEAC is committed to working with area businesses\, community leaders and neighbors to create a cleaner\, greener\, safer place to live and work\, while fighting the climate crisis and other assaults on our environment through education and outreach.
URL:https://tarrytownenvironmental.org/event/2022-eco-fair/
LOCATION:Patriots Park\, Patriots Park\, Tarrytown\, NY\, NY\, 10591\, United States
CATEGORIES:Outdoor Event
ATTACH;FMTTYPE=image/jpeg:https://tarrytownenvironmental.org/wp-content/uploads/2022/09/2022-Eco-Fair-poster-image.jpg
ORGANIZER;CN="TEAC":MAILTO:info@tarrytownenvironmental.org
END:VEVENT
BEGIN:VEVENT
DTSTART;TZID=America/New_York:20221002T100000
DTEND;TZID=America/New_York:20221002T140000
DTSTAMP:20260423T143023
CREATED:20220926T183118Z
LAST-MODIFIED:20220927T225039Z
UID:2840-1664704800-1664719200@tarrytownenvironmental.org
SUMMARY:Rain Barrel Sale at Hilltop Hanover - Register this week!
DESCRIPTION:Westchester County has initiated a sale of rain barrels and compost kits for both backyard and kitchen collection at cost. \nOrder your compost and rain barrels now! Our weather will continue to be unpredictable so rain barrels are a good insurance policy to be sure. Home composting is great for your garden and plantings\, and improves the efficiency of our waste-to-energy facility in Peekskill.  Let’s continue moving to Zero Waste! \nOrder by September 30 using the link below\, pick up at Hilltop and grab some fresh produce at the farm stand\, we still have amazing offerings including a new local pie vendor just to tempt you.  The pies look delicious. \nThe pick up is at Hilltop Hanover Farm on Saturday Oct 1 – or for those attending the TEAC Eco Fair Saturday in Tarrytown 10-2\, pick up is Sunday\, Oct 2. \nhttps://westchester.compostersale.com
URL:https://tarrytownenvironmental.org/event/rain-barrel-sale-at-hilltop-hanover-register-this-week/
LOCATION:Hilltop Hanover Farm\, 1271 Hanover St\, Yorktown Heights\, NY\, 10598\, United States
CATEGORIES:Zero Waste
ATTACH;FMTTYPE=image/jpeg:https://tarrytownenvironmental.org/wp-content/uploads/2022/09/2022-Rain-Barrel-Sale-2.jpg
END:VEVENT
END:VCALENDAR