BEGIN:VCALENDAR
VERSION:2.0
PRODID:-//Tarrytown Environmental Advisory Council - ECPv6.15.20//NONSGML v1.0//EN
CALSCALE:GREGORIAN
METHOD:PUBLISH
X-WR-CALNAME:Tarrytown Environmental Advisory Council
X-ORIGINAL-URL:https://tarrytownenvironmental.org
X-WR-CALDESC:Events for Tarrytown Environmental Advisory Council
REFRESH-INTERVAL;VALUE=DURATION:PT1H
X-Robots-Tag:noindex
X-PUBLISHED-TTL:PT1H
BEGIN:VTIMEZONE
TZID:America/New_York
BEGIN:DAYLIGHT
TZOFFSETFROM:-0500
TZOFFSETTO:-0400
TZNAME:EDT
DTSTART:20210314T070000
END:DAYLIGHT
BEGIN:STANDARD
TZOFFSETFROM:-0400
TZOFFSETTO:-0500
TZNAME:EST
DTSTART:20211107T060000
END:STANDARD
BEGIN:DAYLIGHT
TZOFFSETFROM:-0500
TZOFFSETTO:-0400
TZNAME:EDT
DTSTART:20220313T070000
END:DAYLIGHT
BEGIN:STANDARD
TZOFFSETFROM:-0400
TZOFFSETTO:-0500
TZNAME:EST
DTSTART:20221106T060000
END:STANDARD
BEGIN:DAYLIGHT
TZOFFSETFROM:-0500
TZOFFSETTO:-0400
TZNAME:EDT
DTSTART:20230312T070000
END:DAYLIGHT
BEGIN:STANDARD
TZOFFSETFROM:-0400
TZOFFSETTO:-0500
TZNAME:EST
DTSTART:20231105T060000
END:STANDARD
END:VTIMEZONE
BEGIN:VEVENT
DTSTART;TZID=America/New_York:20220108T100000
DTEND;TZID=America/New_York:20220108T120000
DTSTAMP:20260424T073533
CREATED:20211224T145624Z
LAST-MODIFIED:20211224T145624Z
UID:2386-1641636000-1641643200@tarrytownenvironmental.org
SUMMARY:MILKWEED SEED PLANTING EVENT
DESCRIPTION:Help monarchs get off to a great start this year! Children of all ages are invited to a\nwinter milkweed planting event at the Warner Library Children’s Pollinator Garden.\nPlease bring any clear plastic salad containers minimum 3″ deep. Soil and seeds will be\nprovided for children to plant and take home their milkweed to overwinter outdoors. We\nwill have lots of information on the fascinating connection between monarchs and\nmilkweed and other native pollinators. Hot cider and cookies will be served! \nSocial distancing and masks will be required for participation. For more information\,\ncontact the Tarrytown Environmental Advisory Council (TEAC) at\ntarrytownenviro@gmail.com. \n**Rain date – Saturday\, January 22\, 2022 10:00AM – 12:00PM** \nMilkweed Monarch Workshop Flyer
URL:https://tarrytownenvironmental.org/event/milkweed-seed-planting-event/
LOCATION:Warner Library\, 121 N. Broadway\, Tarrytown\, NY\, 10591\, United States
CATEGORIES:Outdoor Event
ATTACH;FMTTYPE=image/jpeg:https://tarrytownenvironmental.org/wp-content/uploads/2021/12/Butterfly.jpg
ORGANIZER;CN="TEAC":MAILTO:info@tarrytownenvironmental.org
END:VEVENT
END:VCALENDAR