BEGIN:VCALENDAR
VERSION:2.0
PRODID:-//Tarrytown Environmental Advisory Council - ECPv6.15.20//NONSGML v1.0//EN
CALSCALE:GREGORIAN
METHOD:PUBLISH
X-WR-CALNAME:Tarrytown Environmental Advisory Council
X-ORIGINAL-URL:https://tarrytownenvironmental.org
X-WR-CALDESC:Events for Tarrytown Environmental Advisory Council
REFRESH-INTERVAL;VALUE=DURATION:PT1H
X-Robots-Tag:noindex
X-PUBLISHED-TTL:PT1H
BEGIN:VTIMEZONE
TZID:America/New_York
BEGIN:DAYLIGHT
TZOFFSETFROM:-0500
TZOFFSETTO:-0400
TZNAME:EDT
DTSTART:20200308T070000
END:DAYLIGHT
BEGIN:STANDARD
TZOFFSETFROM:-0400
TZOFFSETTO:-0500
TZNAME:EST
DTSTART:20201101T060000
END:STANDARD
BEGIN:DAYLIGHT
TZOFFSETFROM:-0500
TZOFFSETTO:-0400
TZNAME:EDT
DTSTART:20210314T070000
END:DAYLIGHT
BEGIN:STANDARD
TZOFFSETFROM:-0400
TZOFFSETTO:-0500
TZNAME:EST
DTSTART:20211107T060000
END:STANDARD
BEGIN:DAYLIGHT
TZOFFSETFROM:-0500
TZOFFSETTO:-0400
TZNAME:EDT
DTSTART:20220313T070000
END:DAYLIGHT
BEGIN:STANDARD
TZOFFSETFROM:-0400
TZOFFSETTO:-0500
TZNAME:EST
DTSTART:20221106T060000
END:STANDARD
END:VTIMEZONE
BEGIN:VEVENT
DTSTART;TZID=America/New_York:20210922T190000
DTEND;TZID=America/New_York:20210922T203000
DTSTAMP:20260424T163723
CREATED:20210831T194124Z
LAST-MODIFIED:20210922T004000Z
UID:2245-1632337200-1632342600@tarrytownenvironmental.org
SUMMARY:EnergySmart Homes Kickoff - Public Event for TT/SH/IRV
DESCRIPTION:Energy Savings and Climate Action at Home –\n                                  EnergySmart Homes Rivertowns Launch Event \nSAVE the DATE: Wednesday\, September 22\n 7:00pm-8:00pm\, Q&A 8:00pm-8:30pm\nWatch online \nDiscover customized clean heating and cooling solutions for your home\, understand how energy efficiency can save you money and energy\, plus\, learn about financial incentives and rebates offered by NYSERDA and Con Ed. Join us in-person at the Warner Library or on zoom on Wednesday\, September 22 to meet the contractors and hear from your neighbors! \nRSVP to the webinar at SustainableWestchester.org/Webinar\nor call (914) 242-4725 ext. 122 \nThe Villages of Irvington\, Tarrytown and Sleepy Hollow\, alongside the Irvington Green Policy Task Force\, Tarrytown Environmental Advisory Council and Sleepy Hollow Environmental Advisory Committee have partnered with Sustainable Westchester to bring EnergySmart Homes Rivertowns to our community. \nFacebook Event: https://fb.me/e/1fLn9KI6G
URL:https://tarrytownenvironmental.org/event/energysmart-homes-kickoff-public-event-for-tt-sh-irv/
LOCATION:Warner Library\, 121 N. Broadway\, Tarrytown\, NY\, 10591\, United States
ORGANIZER;CN="TEAC":MAILTO:info@tarrytownenvironmental.org
END:VEVENT
BEGIN:VEVENT
DTSTART;TZID=America/New_York:20210925T160000
DTEND;TZID=America/New_York:20210925T180000
DTSTAMP:20260424T163723
CREATED:20210921T154928Z
LAST-MODIFIED:20210921T154928Z
UID:2281-1632585600-1632592800@tarrytownenvironmental.org
SUMMARY:The Green Plays Project - Pierson Park
DESCRIPTION:
URL:https://tarrytownenvironmental.org/event/the-green-plays-project-pierson-park/
LOCATION:Pierson Park\, Tarrytown\, West Main St.\, Tarrytown\, NY\, 10591\, United States
END:VEVENT
END:VCALENDAR