BEGIN:VCALENDAR
VERSION:2.0
PRODID:-//Tarrytown Environmental Advisory Council - ECPv6.15.20//NONSGML v1.0//EN
CALSCALE:GREGORIAN
METHOD:PUBLISH
X-ORIGINAL-URL:https://tarrytownenvironmental.org
X-WR-CALDESC:Events for Tarrytown Environmental Advisory Council
REFRESH-INTERVAL;VALUE=DURATION:PT1H
X-Robots-Tag:noindex
X-PUBLISHED-TTL:PT1H
BEGIN:VTIMEZONE
TZID:America/New_York
BEGIN:DAYLIGHT
TZOFFSETFROM:-0500
TZOFFSETTO:-0400
TZNAME:EDT
DTSTART:20190310T070000
END:DAYLIGHT
BEGIN:STANDARD
TZOFFSETFROM:-0400
TZOFFSETTO:-0500
TZNAME:EST
DTSTART:20191103T060000
END:STANDARD
BEGIN:DAYLIGHT
TZOFFSETFROM:-0500
TZOFFSETTO:-0400
TZNAME:EDT
DTSTART:20200308T070000
END:DAYLIGHT
BEGIN:STANDARD
TZOFFSETFROM:-0400
TZOFFSETTO:-0500
TZNAME:EST
DTSTART:20201101T060000
END:STANDARD
BEGIN:DAYLIGHT
TZOFFSETFROM:-0500
TZOFFSETTO:-0400
TZNAME:EDT
DTSTART:20210314T070000
END:DAYLIGHT
BEGIN:STANDARD
TZOFFSETFROM:-0400
TZOFFSETTO:-0500
TZNAME:EST
DTSTART:20211107T060000
END:STANDARD
END:VTIMEZONE
BEGIN:VEVENT
DTSTART;TZID=America/New_York:20201017T090000
DTEND;TZID=America/New_York:20201017T120000
DTSTAMP:20260425T173951
CREATED:20201016T131849Z
LAST-MODIFIED:20201016T132405Z
UID:1469-1602925200-1602936000@tarrytownenvironmental.org
SUMMARY:Riverkeeper Sweep 2020 is Saturday\, Oct 17
DESCRIPTION:Join us on Saturday\, Oct 17\, for the 9th annual Riverkeeper Sweep\, the annual day of service for the Hudson River and its tributaries! \nTEAC will be leading a clean-up of a section along the South Depot Plaza parking area\, and\, in cooperation with the Friends of the Riverwalk\, the Riverfront area. We’ll meet at the Village Hall parking lot at 9am. Bring a mask\, gloves\, and water. \nFind out more here: https://www.eventbrite.com/e/tarrytown-tarrytown-metro-north-station-cleanup-registration-120066806049.
URL:https://tarrytownenvironmental.org/event/riverkeeper-sweep-2020/
LOCATION:NY
ATTACH;FMTTYPE=image/jpeg:https://tarrytownenvironmental.org/wp-content/uploads/2020/03/Riverkeeper-Sweep.jpg
ORGANIZER;CN="Riverkeeper":MAILTO:info@riverkeeper.org
END:VEVENT
END:VCALENDAR