BEGIN:VCALENDAR
VERSION:2.0
PRODID:-//Tarrytown Environmental Advisory Council - ECPv6.15.20//NONSGML v1.0//EN
CALSCALE:GREGORIAN
METHOD:PUBLISH
X-ORIGINAL-URL:https://tarrytownenvironmental.org
X-WR-CALDESC:Events for Tarrytown Environmental Advisory Council
REFRESH-INTERVAL;VALUE=DURATION:PT1H
X-Robots-Tag:noindex
X-PUBLISHED-TTL:PT1H
BEGIN:VTIMEZONE
TZID:America/New_York
BEGIN:DAYLIGHT
TZOFFSETFROM:-0500
TZOFFSETTO:-0400
TZNAME:EDT
DTSTART:20220313T070000
END:DAYLIGHT
BEGIN:STANDARD
TZOFFSETFROM:-0400
TZOFFSETTO:-0500
TZNAME:EST
DTSTART:20221106T060000
END:STANDARD
BEGIN:DAYLIGHT
TZOFFSETFROM:-0500
TZOFFSETTO:-0400
TZNAME:EDT
DTSTART:20230312T070000
END:DAYLIGHT
BEGIN:STANDARD
TZOFFSETFROM:-0400
TZOFFSETTO:-0500
TZNAME:EST
DTSTART:20231105T060000
END:STANDARD
BEGIN:DAYLIGHT
TZOFFSETFROM:-0500
TZOFFSETTO:-0400
TZNAME:EDT
DTSTART:20240310T070000
END:DAYLIGHT
BEGIN:STANDARD
TZOFFSETFROM:-0400
TZOFFSETTO:-0500
TZNAME:EST
DTSTART:20241103T060000
END:STANDARD
END:VTIMEZONE
BEGIN:VEVENT
DTSTART;TZID=America/New_York:20230415T100000
DTEND;TZID=America/New_York:20230415T140000
DTSTAMP:20260422T214447
CREATED:20230205T031057Z
LAST-MODIFIED:20230412T140945Z
UID:2927-1681552800-1681567200@tarrytownenvironmental.org
SUMMARY:TarryHollow Repair Cafe on April 15
DESCRIPTION:  \n\n\n\n\n \n\n\n\n\n\n\n\n\n\n\n\n\n\n\n\n\n\n\n\n\n\n\n\n\n\n \n\n\n\n\nSAVE THE DATE\n\n\n\n\n \n\n\n\n\n\n\n\n \n\n\n\n\nSaturday\, April 15th 10am-2pm\n\n\n\n\n \n\n\n\n\n\n\n\n \n\n\n\n\nThe Neighborhood House\n43 Wildey Street in Tarrytown\nHOSTED BY THE NEW TARRYHOLLOW REPAIR CAFE\n\n\n\n\n \n\n\n\n\n\n\n\n\n\n\n\nEMAIL TO VOLUNTEER \n\n\n\n\n\n\n\n\n\n\n \n\n\n\nPlease sign up with the above button or email us directly at TarryHollowRepairCafe@gmail.com\n\n\n\n \n\n\n\n\n\n\n\n\n\n\n\n\n\n\n \n\n\n\n\nTO VOLUNTEER\, DONATE OR ANY QUESTIONS:\nTarryHollowRepairCafe@gmail.com\n\n\n\n\n \n\n\n\n\n\n\n\n \n\n\n\n\nCo-sponsored by Tarrytown Environmental Advisory Council and Sleepy Hollow Environmental Advisory Committee \nwith support by the Hastings Repair Cafe and Irvington Repair Cafe    \n\n\n\n\n \n\n\n\n\n\n\n\n\n\n\n\n\n\n\n\n\n\n\n\n\n\n\n\n\n\n\n\n\n\n\n\n\n\n  \n\n\n\n\nEvery other month in New Paltz\, New York\, volunteers gather at one of the hundreds of “repair cafes” around the world to fix things – for free. In this Sunday Closer\, NBC’s Harry Smith shares the fun and joy people feel having their valuables restored.\n\n\n\n\n\n\n\n\n\n\n\n\n\n\n\n\n\n\n\n\n\n\n\n \n\n\n\n\n\n\n\n\n\n\n\n\nHudson Valley Repair Cafe\n\n\n\n\n\n\n\n\n\n\n\n \n \n\n\n\n\n\n\n\n\n\n\n\n\nRepair Café USA \n\n\n\n\n\n\n\n\n\n\n\n \n \n\n\n\n\n\n\n\n\n\n\n\n\nRepair Café International Website\n\n\n\n\n\n\n\n\n\n\n\n \n\n\n\n\n\n\n\n\n\n\n\n\n\n\n\n\n\n\n\n\n\n\n\n\n\n\n\n\n\n\n\n\n\n\n \n\n\n\n\n\nThe Hastings Repair Cafe\, Dobbs Ferry Repair Cafe\, Irvington Repair Cafe and the new TarryHollow Repair Cafe are part of an intervillage community effort known as the Rivertowns Repair Cafe organized by volunteers from Hastings-on-Hudson\, Dobbs Ferry\, Irvington\, Tarrytown and Sleepy Hollow with the support of the Hastings Conservation Commission\, Sustainable Dobbs\, the Irvington Green Policy Task Force\, Tarrytown Environmental Advisory Council and the Sleepy Hollow Environmental Advisory Committee. \nWe look forward to the continued expansion of the Rivertowns Repair Cafe. Reach out!! \n\n\n\n\n\n \n\n\n\n\n\n\n\n\n\n\n\n\n\n\n\n\n\n\n\n \n\n\n\n\n\n\n\n\n\n\n\n\nHastings Repair Cafe Email \n\n\n\n\n\n\n\n\n\n\n\n \n \n\n\n\n\n\n\n\n\n\n\n\n\nHastings Repair Cafe FB \n\n\n\n\n\n\n\n\n\n\n\n \n \n\n\n\n\n\n\n\n\n\n\n\n\nRivertowns Repair Cafe IG \n\n\n\n\n\n\n\n\n\n\n\n \n\n\n\n\n\n\n\n\n\n\n\n\n\n\n\n\n\n\n\n \n\n\n\nCopyright © 2023\, All rights reserved. \nContact Us\nHastingsRepairCafe@gmail.com \nWant to change how you receive these emails?\nYou can update your preferences or unsubscribe from this list.\n\n\n\n \n\n\n\n\n\n\n\n\n\n\n\n\n\n  \n  \n 
URL:https://tarrytownenvironmental.org/event/new-tarryhollow-repair-cafe-on-april-15/
LOCATION:The Neighborhood House\, 43 Wildey St\, Tarryown\, NY\, 10591\, United States
CATEGORIES:Repair Cafe
ATTACH;FMTTYPE=image/png:https://tarrytownenvironmental.org/wp-content/uploads/2023/02/RivertownRepairCafe-TarryHollow-SOCIAL-Poster-Bilingual.png
ORGANIZER;CN="TEAC":MAILTO:info@tarrytownenvironmental.org
END:VEVENT
END:VCALENDAR