BEGIN:VCALENDAR
VERSION:2.0
PRODID:-//Tarrytown Environmental Advisory Council - ECPv6.15.20//NONSGML v1.0//EN
CALSCALE:GREGORIAN
METHOD:PUBLISH
X-ORIGINAL-URL:https://tarrytownenvironmental.org
X-WR-CALDESC:Events for Tarrytown Environmental Advisory Council
REFRESH-INTERVAL;VALUE=DURATION:PT1H
X-Robots-Tag:noindex
X-PUBLISHED-TTL:PT1H
BEGIN:VTIMEZONE
TZID:America/New_York
BEGIN:DAYLIGHT
TZOFFSETFROM:-0500
TZOFFSETTO:-0400
TZNAME:EDT
DTSTART:20210314T070000
END:DAYLIGHT
BEGIN:STANDARD
TZOFFSETFROM:-0400
TZOFFSETTO:-0500
TZNAME:EST
DTSTART:20211107T060000
END:STANDARD
BEGIN:DAYLIGHT
TZOFFSETFROM:-0500
TZOFFSETTO:-0400
TZNAME:EDT
DTSTART:20220313T070000
END:DAYLIGHT
BEGIN:STANDARD
TZOFFSETFROM:-0400
TZOFFSETTO:-0500
TZNAME:EST
DTSTART:20221106T060000
END:STANDARD
BEGIN:DAYLIGHT
TZOFFSETFROM:-0500
TZOFFSETTO:-0400
TZNAME:EDT
DTSTART:20230312T070000
END:DAYLIGHT
BEGIN:STANDARD
TZOFFSETFROM:-0400
TZOFFSETTO:-0500
TZNAME:EST
DTSTART:20231105T060000
END:STANDARD
END:VTIMEZONE
BEGIN:VEVENT
DTSTART;TZID=America/New_York:20220430T110000
DTEND;TZID=America/New_York:20220430T150000
DTSTAMP:20260423T213821
CREATED:20220320T222446Z
LAST-MODIFIED:20220320T222735Z
UID:2531-1651316400-1651330800@tarrytownenvironmental.org
SUMMARY:Rivertowns Repair Cafe - April 30 in Irvington
DESCRIPTION:
URL:https://tarrytownenvironmental.org/event/rivertowns-repair-cafe-april-30-in-irvington/
LOCATION:Irvington Public Library\, 12 South Astor St\, Irvington\, NY\, 10533\, United States
CATEGORIES:Repair Cafe,Zero Waste
ATTACH;FMTTYPE=image/jpeg:https://tarrytownenvironmental.org/wp-content/uploads/2022/03/2022-4-30-Repair-Cafe-poster.jpg
ORGANIZER;CN="Irvington Repair Cafe":MAILTO:IrvingtonRepairCafe@gmail.com
END:VEVENT
END:VCALENDAR