BEGIN:VCALENDAR
VERSION:2.0
PRODID:-//Tarrytown Environmental Advisory Council - ECPv6.15.20//NONSGML v1.0//EN
CALSCALE:GREGORIAN
METHOD:PUBLISH
X-WR-CALNAME:Tarrytown Environmental Advisory Council
X-ORIGINAL-URL:https://tarrytownenvironmental.org
X-WR-CALDESC:Events for Tarrytown Environmental Advisory Council
REFRESH-INTERVAL;VALUE=DURATION:PT1H
X-Robots-Tag:noindex
X-PUBLISHED-TTL:PT1H
BEGIN:VTIMEZONE
TZID:America/New_York
BEGIN:DAYLIGHT
TZOFFSETFROM:-0500
TZOFFSETTO:-0400
TZNAME:EDT
DTSTART:20220313T070000
END:DAYLIGHT
BEGIN:STANDARD
TZOFFSETFROM:-0400
TZOFFSETTO:-0500
TZNAME:EST
DTSTART:20221106T060000
END:STANDARD
BEGIN:DAYLIGHT
TZOFFSETFROM:-0500
TZOFFSETTO:-0400
TZNAME:EDT
DTSTART:20230312T070000
END:DAYLIGHT
BEGIN:STANDARD
TZOFFSETFROM:-0400
TZOFFSETTO:-0500
TZNAME:EST
DTSTART:20231105T060000
END:STANDARD
BEGIN:DAYLIGHT
TZOFFSETFROM:-0500
TZOFFSETTO:-0400
TZNAME:EDT
DTSTART:20240310T070000
END:DAYLIGHT
BEGIN:STANDARD
TZOFFSETFROM:-0400
TZOFFSETTO:-0500
TZNAME:EST
DTSTART:20241103T060000
END:STANDARD
END:VTIMEZONE
BEGIN:VEVENT
DTSTART;TZID=America/New_York:20230422T083000
DTEND;TZID=America/New_York:20230422T100000
DTSTAMP:20260423T195343
CREATED:20230310T183659Z
LAST-MODIFIED:20230310T183659Z
UID:3065-1682152200-1682157600@tarrytownenvironmental.org
SUMMARY:Bird Walk - Earth Month 2023
DESCRIPTION:Join us a for a morning bird walk around the lakes.
URL:https://tarrytownenvironmental.org/event/bird-walk-earth-month-2023/
LOCATION:Tarrytown Lakes Parking Lot\, Neperan and Sunnyside\, Tarrytown\, NY\, 10591\, United States
CATEGORIES:Earth Day,Family Event,Outdoor Event
ORGANIZER;CN="TEAC":MAILTO:info@tarrytownenvironmental.org
END:VEVENT
BEGIN:VEVENT
DTSTART;TZID=America/New_York:20230423T160000
DTEND;TZID=America/New_York:20230423T173000
DTSTAMP:20260423T195343
CREATED:20230316T130820Z
LAST-MODIFIED:20230316T130820Z
UID:3151-1682265600-1682271000@tarrytownenvironmental.org
SUMMARY:Film Screening: The Story of Plastic
DESCRIPTION:Please join us for this documentary revealing the ugly truth behind plastic pollution and the false solution of plastic recycling.
URL:https://tarrytownenvironmental.org/event/film-screening-the-story-of-plastic/
LOCATION:The Neighborhood House\, 43 Wildey St\, Tarryown\, NY\, 10591\, United States
CATEGORIES:Earth Day,Family Event,Film,Public Presentation
ORGANIZER;CN="TEAC":MAILTO:info@tarrytownenvironmental.org
END:VEVENT
BEGIN:VEVENT
DTSTART;TZID=America/New_York:20230429T110000
DTEND;TZID=America/New_York:20230429T150000
DTSTAMP:20260423T195343
CREATED:20230312T195442Z
LAST-MODIFIED:20230312T195442Z
UID:3103-1682766000-1682780400@tarrytownenvironmental.org
SUMMARY:TEAC at the Duck Derby
DESCRIPTION:Rock-painting for our pollinator gardens\, and other fun stuff!
URL:https://tarrytownenvironmental.org/event/teac-at-the-duck-derby/
CATEGORIES:Earth Day,Family Event,Outdoor Event,Pollinator Pathways
END:VEVENT
BEGIN:VEVENT
DTSTART;TZID=America/New_York:20230429T110000
DTEND;TZID=America/New_York:20230429T150000
DTSTAMP:20260423T195343
CREATED:20230310T183448Z
LAST-MODIFIED:20230310T183448Z
UID:3063-1682766000-1682780400@tarrytownenvironmental.org
SUMMARY:Kids Day\, Healthy Kids YMCA - Earth Month 2023
DESCRIPTION:We’ll have a table at the Healthy Kids/Duck Derby; please help us out with kids activities throughout the day!
URL:https://tarrytownenvironmental.org/event/kids-day-healthy-kids-ymca-earth-month-2023/
LOCATION:Patriots Park\, Patriots Park\, Tarrytown\, NY\, NY\, 10591\, United States
CATEGORIES:Earth Day,Family Event,Outdoor Event
ORGANIZER;CN="TEAC":MAILTO:info@tarrytownenvironmental.org
END:VEVENT
BEGIN:VEVENT
DTSTART;TZID=America/New_York:20230430T090000
DTEND;TZID=America/New_York:20230430T120000
DTSTAMP:20260423T195343
CREATED:20230310T183845Z
LAST-MODIFIED:20230310T183845Z
UID:3067-1682845200-1682856000@tarrytownenvironmental.org
SUMMARY:Community Garden Spring Prep - Earth Month 2023
DESCRIPTION:Help us prep the community garden for spring planting. Work will include bed repairs\, bed clean up\, pour topsoil and compost!
URL:https://tarrytownenvironmental.org/event/community-garden-spring-prep-earth-month-2023/
LOCATION:John Paulding School\, on the corner of Broadway and Cobb Lane\, Cobb Lane\, Tarrytown\, NY\, 10591\, United States
CATEGORIES:Earth Day,Family Event,Outdoor Event
ORGANIZER;CN="TEAC":MAILTO:info@tarrytownenvironmental.org
END:VEVENT
END:VCALENDAR