BEGIN:VCALENDAR
VERSION:2.0
PRODID:-//Tarrytown Environmental Advisory Council - ECPv6.15.20//NONSGML v1.0//EN
CALSCALE:GREGORIAN
METHOD:PUBLISH
X-ORIGINAL-URL:https://tarrytownenvironmental.org
X-WR-CALDESC:Events for Tarrytown Environmental Advisory Council
REFRESH-INTERVAL;VALUE=DURATION:PT1H
X-Robots-Tag:noindex
X-PUBLISHED-TTL:PT1H
BEGIN:VTIMEZONE
TZID:America/New_York
BEGIN:DAYLIGHT
TZOFFSETFROM:-0500
TZOFFSETTO:-0400
TZNAME:EDT
DTSTART:20230312T070000
END:DAYLIGHT
BEGIN:STANDARD
TZOFFSETFROM:-0400
TZOFFSETTO:-0500
TZNAME:EST
DTSTART:20231105T060000
END:STANDARD
BEGIN:DAYLIGHT
TZOFFSETFROM:-0500
TZOFFSETTO:-0400
TZNAME:EDT
DTSTART:20240310T070000
END:DAYLIGHT
BEGIN:STANDARD
TZOFFSETFROM:-0400
TZOFFSETTO:-0500
TZNAME:EST
DTSTART:20241103T060000
END:STANDARD
BEGIN:DAYLIGHT
TZOFFSETFROM:-0500
TZOFFSETTO:-0400
TZNAME:EDT
DTSTART:20250309T070000
END:DAYLIGHT
BEGIN:STANDARD
TZOFFSETFROM:-0400
TZOFFSETTO:-0500
TZNAME:EST
DTSTART:20251102T060000
END:STANDARD
END:VTIMEZONE
BEGIN:VEVENT
DTSTART;TZID=America/New_York:20240921T100000
DTEND;TZID=America/New_York:20240921T130000
DTSTAMP:20260425T091853
CREATED:20240720T021409Z
LAST-MODIFIED:20240912T202559Z
UID:3517-1726912800-1726923600@tarrytownenvironmental.org
SUMMARY:Eco-Fair 2024 - Save the Date!
DESCRIPTION:Come on out to Patriots Park! We will have many organizations and vendors with information and tips for Healthy landscaping\, safe streets\, climate adaptation\, energy efficiency\, recycling\, trees and trails\, clean water\, kids activities\, giveaways\, music and more!
URL:https://tarrytownenvironmental.org/event/eco-fair-2024-save-the-date/
LOCATION:Patriots Park\, Patriots Park\, Tarrytown\, NY\, NY\, 10591\, United States
CATEGORIES:Environmental Sustainability,Outdoor Event
ATTACH;FMTTYPE=image/jpeg:https://tarrytownenvironmental.org/wp-content/uploads/2024/07/Poster_Eco_Fair_2024_Edited-from-2023_11x17-V3.jpg
ORGANIZER;CN="TEAC":MAILTO:info@tarrytownenvironmental.org
END:VEVENT
END:VCALENDAR