BEGIN:VCALENDAR
VERSION:2.0
PRODID:-//Tarrytown Environmental Advisory Council - ECPv6.15.20//NONSGML v1.0//EN
CALSCALE:GREGORIAN
METHOD:PUBLISH
X-ORIGINAL-URL:https://tarrytownenvironmental.org
X-WR-CALDESC:Events for Tarrytown Environmental Advisory Council
REFRESH-INTERVAL;VALUE=DURATION:PT1H
X-Robots-Tag:noindex
X-PUBLISHED-TTL:PT1H
BEGIN:VTIMEZONE
TZID:America/New_York
BEGIN:DAYLIGHT
TZOFFSETFROM:-0500
TZOFFSETTO:-0400
TZNAME:EDT
DTSTART:20220313T070000
END:DAYLIGHT
BEGIN:STANDARD
TZOFFSETFROM:-0400
TZOFFSETTO:-0500
TZNAME:EST
DTSTART:20221106T060000
END:STANDARD
BEGIN:DAYLIGHT
TZOFFSETFROM:-0500
TZOFFSETTO:-0400
TZNAME:EDT
DTSTART:20230312T070000
END:DAYLIGHT
BEGIN:STANDARD
TZOFFSETFROM:-0400
TZOFFSETTO:-0500
TZNAME:EST
DTSTART:20231105T060000
END:STANDARD
BEGIN:DAYLIGHT
TZOFFSETFROM:-0500
TZOFFSETTO:-0400
TZNAME:EDT
DTSTART:20240310T070000
END:DAYLIGHT
BEGIN:STANDARD
TZOFFSETFROM:-0400
TZOFFSETTO:-0500
TZNAME:EST
DTSTART:20241103T060000
END:STANDARD
END:VTIMEZONE
BEGIN:VEVENT
DTSTART;TZID=America/New_York:20230401T080000
DTEND;TZID=America/New_York:20230401T170000
DTSTAMP:20260422T234615
CREATED:20230112T182936Z
LAST-MODIFIED:20230316T130358Z
UID:2891-1680336000-1680368400@tarrytownenvironmental.org
SUMMARY:2023 Earth Month
DESCRIPTION:Each April\, TEAC holds a series of free activities and events to celebrate Earth Day. There will be opportunities for everyone of every age to get involved with helping our local environment\, and having fun in the process! \nGO HERE to see our events and to sign up!
URL:https://tarrytownenvironmental.org/event/2023-earth-month/
LOCATION:Village of Tarrytown\, Tarrytown\, NY\, 10591\, United States
CATEGORIES:Earth Day,Outdoor Event,Zero Waste
ORGANIZER;CN="TEAC":MAILTO:info@tarrytownenvironmental.org
END:VEVENT
BEGIN:VEVENT
DTSTART;TZID=America/New_York:20230401T090000
DTEND;TZID=America/New_York:20230401T110000
DTSTAMP:20260422T234615
CREATED:20230310T181334Z
LAST-MODIFIED:20230310T181334Z
UID:3043-1680339600-1680346800@tarrytownenvironmental.org
SUMMARY:Meet the Village Arborist and Learn About Local Trees - Earth Month 2023
DESCRIPTION:
URL:https://tarrytownenvironmental.org/event/meet-the-village-arborist-and-learn-about-local-trees-earth-month-2023/
LOCATION:Tarrytown Lakes Parking Lot\, Neperan and Sunnyside\, Tarrytown\, NY\, 10591\, United States
CATEGORIES:Earth Day,Outdoor Event
ORGANIZER;CN="TEAC":MAILTO:info@tarrytownenvironmental.org
END:VEVENT
BEGIN:VEVENT
DTSTART;TZID=America/New_York:20230401T100000
DTEND;TZID=America/New_York:20230401T120000
DTSTAMP:20260422T234615
CREATED:20230310T181530Z
LAST-MODIFIED:20230310T183241Z
UID:3045-1680343200-1680350400@tarrytownenvironmental.org
SUMMARY:Vines Clean-Up - Earth Month 2023
DESCRIPTION:Bring a water bottle and gloves if you have them. Be prepared for hard work!
URL:https://tarrytownenvironmental.org/event/vines-clean-up-earth-month-2023/
LOCATION:Tarrytown Lakes Parking Lot\, Neperan and Sunnyside\, Tarrytown\, NY\, 10591\, United States
CATEGORIES:Earth Day,Outdoor Event
ORGANIZER;CN="TEAC":MAILTO:info@tarrytownenvironmental.org
END:VEVENT
BEGIN:VEVENT
DTSTART;TZID=America/New_York:20230408T093000
DTEND;TZID=America/New_York:20230408T123000
DTSTAMP:20260422T234615
CREATED:20230312T194701Z
LAST-MODIFIED:20230312T194701Z
UID:3095-1680946200-1680957000@tarrytownenvironmental.org
SUMMARY:Seed Giveaway at the TaSH
DESCRIPTION:Pollinator-friendly seeds for your garden
URL:https://tarrytownenvironmental.org/event/seed-giveaway-at-the-tash/
CATEGORIES:Earth Day,Informational Webinar,Pollinator Pathways
END:VEVENT
BEGIN:VEVENT
DTSTART;TZID=America/New_York:20230408T133000
DTEND;TZID=America/New_York:20230408T153000
DTSTAMP:20260422T234615
CREATED:20230310T182018Z
LAST-MODIFIED:20230310T183217Z
UID:3047-1680960600-1680967800@tarrytownenvironmental.org
SUMMARY:Glenville Woods Trail Blaze - Earth Month 2023
DESCRIPTION:Meet us at the lower lake pump house to blaze/mark the Glenville Woods Trail.
URL:https://tarrytownenvironmental.org/event/glenville-woods-trail-blaze-earth-month-2023/
LOCATION:Lower Lake Pump House\, 41°04'57.5"N\, 73°49'54.2"W\, Tarrytown\, NY\, 10591\, United States
CATEGORIES:Earth Day,Outdoor Event
ORGANIZER;CN="TEAC":MAILTO:info@tarrytownenvironmental.org
END:VEVENT
BEGIN:VEVENT
DTSTART;TZID=America/New_York:20230416T100000
DTEND;TZID=America/New_York:20230416T120000
DTSTAMP:20260422T234615
CREATED:20230310T182202Z
LAST-MODIFIED:20230310T183128Z
UID:3050-1681639200-1681646400@tarrytownenvironmental.org
SUMMARY:Lakes Clean-up - Earth Month 2023
DESCRIPTION:Bring water and gloves if you have them. Get ready to get dirty!
URL:https://tarrytownenvironmental.org/event/lakes-clean-up-earth-month-2023/
LOCATION:Tarrytown Lakes Parking Lot\, Neperan and Sunnyside\, Tarrytown\, NY\, 10591\, United States
CATEGORIES:Earth Day,Outdoor Event
ORGANIZER;CN="TEAC":MAILTO:info@tarrytownenvironmental.org
END:VEVENT
BEGIN:VEVENT
DTSTART;TZID=America/New_York:20230422T083000
DTEND;TZID=America/New_York:20230422T100000
DTSTAMP:20260422T234615
CREATED:20230310T183659Z
LAST-MODIFIED:20230310T183659Z
UID:3065-1682152200-1682157600@tarrytownenvironmental.org
SUMMARY:Bird Walk - Earth Month 2023
DESCRIPTION:Join us a for a morning bird walk around the lakes.
URL:https://tarrytownenvironmental.org/event/bird-walk-earth-month-2023/
LOCATION:Tarrytown Lakes Parking Lot\, Neperan and Sunnyside\, Tarrytown\, NY\, 10591\, United States
CATEGORIES:Earth Day,Family Event,Outdoor Event
ORGANIZER;CN="TEAC":MAILTO:info@tarrytownenvironmental.org
END:VEVENT
BEGIN:VEVENT
DTSTART;TZID=America/New_York:20230422T100000
DTEND;TZID=America/New_York:20230422T120000
DTSTAMP:20260422T234615
CREATED:20230312T194935Z
LAST-MODIFIED:20230312T194944Z
UID:3097-1682157600-1682164800@tarrytownenvironmental.org
SUMMARY:Seed Giveaway at Neperan Park
DESCRIPTION:Seed giveaway! Lots of native annual seeds to start your spring garden season. Previewing design for Monarch Milkweed Garden. Refreshments will be served.
URL:https://tarrytownenvironmental.org/event/seed-giveaway-at-neperan-park/
CATEGORIES:Earth Day,Pollinator Pathways
END:VEVENT
BEGIN:VEVENT
DTSTART;TZID=America/New_York:20230422T100000
DTEND;TZID=America/New_York:20230422T120000
DTSTAMP:20260422T234615
CREATED:20230310T182426Z
LAST-MODIFIED:20230310T183106Z
UID:3052-1682157600-1682164800@tarrytownenvironmental.org
SUMMARY:Village Wide Clean Up - Earth Month 2023
DESCRIPTION:Help us clean up neighborhoods across the village.
URL:https://tarrytownenvironmental.org/event/village-wide-clean-up-earth-month-2023/
LOCATION:Patriots Park\, Patriots Park\, Tarrytown\, NY\, NY\, 10591\, United States
CATEGORIES:Earth Day,Outdoor Event
ORGANIZER;CN="TEAC":MAILTO:info@tarrytownenvironmental.org
END:VEVENT
BEGIN:VEVENT
DTSTART;TZID=America/New_York:20230422T100000
DTEND;TZID=America/New_York:20230422T140000
DTSTAMP:20260422T234615
CREATED:20230312T195142Z
LAST-MODIFIED:20230312T195142Z
UID:3100-1682157600-1682172000@tarrytownenvironmental.org
SUMMARY:Rockefeller Preserve Earth Day Event
DESCRIPTION:TEAC will have a table with annual seed giveaway\, and lots of info on starting your own pollinator garden.
URL:https://tarrytownenvironmental.org/event/rockefeller-preserve-earth-day-event/
CATEGORIES:Earth Day,Outdoor Event,Pollinator Pathways
END:VEVENT
BEGIN:VEVENT
DTSTART;TZID=America/New_York:20230423T130000
DTEND;TZID=America/New_York:20230423T150000
DTSTAMP:20260422T234615
CREATED:20230310T182600Z
LAST-MODIFIED:20230310T183032Z
UID:3054-1682254800-1682262000@tarrytownenvironmental.org
SUMMARY:Lakes Trail Hike - Earth Month 2023
DESCRIPTION:Join us for a walk on one of the newer trails around the Tarrytown Lakes.
URL:https://tarrytownenvironmental.org/event/lakes-trail-hike-earth-month-2023/
LOCATION:Tarrytown Lakes Parking Lot\, Neperan and Sunnyside\, Tarrytown\, NY\, 10591\, United States
CATEGORIES:Earth Day,Outdoor Event
ORGANIZER;CN="TEAC":MAILTO:info@tarrytownenvironmental.org
END:VEVENT
BEGIN:VEVENT
DTSTART;TZID=America/New_York:20230423T160000
DTEND;TZID=America/New_York:20230423T173000
DTSTAMP:20260422T234615
CREATED:20230316T130820Z
LAST-MODIFIED:20230316T130820Z
UID:3151-1682265600-1682271000@tarrytownenvironmental.org
SUMMARY:Film Screening: The Story of Plastic
DESCRIPTION:Please join us for this documentary revealing the ugly truth behind plastic pollution and the false solution of plastic recycling.
URL:https://tarrytownenvironmental.org/event/film-screening-the-story-of-plastic/
LOCATION:The Neighborhood House\, 43 Wildey St\, Tarryown\, NY\, 10591\, United States
CATEGORIES:Earth Day,Family Event,Film,Public Presentation
ORGANIZER;CN="TEAC":MAILTO:info@tarrytownenvironmental.org
END:VEVENT
BEGIN:VEVENT
DTSTART;TZID=America/New_York:20230423T160000
DTEND;TZID=America/New_York:20230423T173000
DTSTAMP:20260422T234615
CREATED:20230310T182953Z
LAST-MODIFIED:20230310T183511Z
UID:3056-1682265600-1682271000@tarrytownenvironmental.org
SUMMARY:Film Screening: The Story of Plastic -  Earth Month 2023
DESCRIPTION:Please join us for this documentary revealing the ugly truth behind plastic pollution and the false solution of plastic recycling.
URL:https://tarrytownenvironmental.org/event/film-screening-the-story-of-plastic-earth-month-2023/
LOCATION:The Neighborhood House\, 43 Wildey St\, Tarryown\, NY\, 10591\, United States
CATEGORIES:Earth Day,Film
ORGANIZER;CN="TEAC":MAILTO:info@tarrytownenvironmental.org
END:VEVENT
BEGIN:VEVENT
DTSTART;TZID=America/New_York:20230429T110000
DTEND;TZID=America/New_York:20230429T150000
DTSTAMP:20260422T234615
CREATED:20230312T195442Z
LAST-MODIFIED:20230312T195442Z
UID:3103-1682766000-1682780400@tarrytownenvironmental.org
SUMMARY:TEAC at the Duck Derby
DESCRIPTION:Rock-painting for our pollinator gardens\, and other fun stuff!
URL:https://tarrytownenvironmental.org/event/teac-at-the-duck-derby/
CATEGORIES:Earth Day,Family Event,Outdoor Event,Pollinator Pathways
END:VEVENT
BEGIN:VEVENT
DTSTART;TZID=America/New_York:20230429T110000
DTEND;TZID=America/New_York:20230429T150000
DTSTAMP:20260422T234615
CREATED:20230310T183448Z
LAST-MODIFIED:20230310T183448Z
UID:3063-1682766000-1682780400@tarrytownenvironmental.org
SUMMARY:Kids Day\, Healthy Kids YMCA - Earth Month 2023
DESCRIPTION:We’ll have a table at the Healthy Kids/Duck Derby; please help us out with kids activities throughout the day!
URL:https://tarrytownenvironmental.org/event/kids-day-healthy-kids-ymca-earth-month-2023/
LOCATION:Patriots Park\, Patriots Park\, Tarrytown\, NY\, NY\, 10591\, United States
CATEGORIES:Earth Day,Family Event,Outdoor Event
ORGANIZER;CN="TEAC":MAILTO:info@tarrytownenvironmental.org
END:VEVENT
BEGIN:VEVENT
DTSTART;TZID=America/New_York:20230430T090000
DTEND;TZID=America/New_York:20230430T120000
DTSTAMP:20260422T234615
CREATED:20230310T183845Z
LAST-MODIFIED:20230310T183845Z
UID:3067-1682845200-1682856000@tarrytownenvironmental.org
SUMMARY:Community Garden Spring Prep - Earth Month 2023
DESCRIPTION:Help us prep the community garden for spring planting. Work will include bed repairs\, bed clean up\, pour topsoil and compost!
URL:https://tarrytownenvironmental.org/event/community-garden-spring-prep-earth-month-2023/
LOCATION:John Paulding School\, on the corner of Broadway and Cobb Lane\, Cobb Lane\, Tarrytown\, NY\, 10591\, United States
CATEGORIES:Earth Day,Family Event,Outdoor Event
ORGANIZER;CN="TEAC":MAILTO:info@tarrytownenvironmental.org
END:VEVENT
BEGIN:VEVENT
DTSTART;TZID=America/New_York:20230430T100000
DTEND;TZID=America/New_York:20230430T140000
DTSTAMP:20260422T234615
CREATED:20230312T172624Z
LAST-MODIFIED:20230312T172926Z
UID:3091-1682848800-1682863200@tarrytownenvironmental.org
SUMMARY:Clothing & Housewares SWAP
DESCRIPTION:
URL:https://tarrytownenvironmental.org/event/clothing-housewares-swap-2/
LOCATION:The Neighborhood House\, 43 Wildey St\, Tarryown\, NY\, 10591\, United States
CATEGORIES:Earth Day,Zero Waste
END:VEVENT
END:VCALENDAR