BEGIN:VCALENDAR
VERSION:2.0
PRODID:-//Tarrytown Environmental Advisory Council - ECPv6.15.20//NONSGML v1.0//EN
CALSCALE:GREGORIAN
METHOD:PUBLISH
X-ORIGINAL-URL:https://tarrytownenvironmental.org
X-WR-CALDESC:Events for Tarrytown Environmental Advisory Council
REFRESH-INTERVAL;VALUE=DURATION:PT1H
X-Robots-Tag:noindex
X-PUBLISHED-TTL:PT1H
BEGIN:VTIMEZONE
TZID:America/New_York
BEGIN:DAYLIGHT
TZOFFSETFROM:-0500
TZOFFSETTO:-0400
TZNAME:EDT
DTSTART:20210314T070000
END:DAYLIGHT
BEGIN:STANDARD
TZOFFSETFROM:-0400
TZOFFSETTO:-0500
TZNAME:EST
DTSTART:20211107T060000
END:STANDARD
BEGIN:DAYLIGHT
TZOFFSETFROM:-0500
TZOFFSETTO:-0400
TZNAME:EDT
DTSTART:20220313T070000
END:DAYLIGHT
BEGIN:STANDARD
TZOFFSETFROM:-0400
TZOFFSETTO:-0500
TZNAME:EST
DTSTART:20221106T060000
END:STANDARD
BEGIN:DAYLIGHT
TZOFFSETFROM:-0500
TZOFFSETTO:-0400
TZNAME:EDT
DTSTART:20230312T070000
END:DAYLIGHT
BEGIN:STANDARD
TZOFFSETFROM:-0400
TZOFFSETTO:-0500
TZNAME:EST
DTSTART:20231105T060000
END:STANDARD
END:VTIMEZONE
BEGIN:VEVENT
DTSTART;TZID=America/New_York:20220409T130000
DTEND;TZID=America/New_York:20220409T150000
DTSTAMP:20260423T230844
CREATED:20220405T212419Z
LAST-MODIFIED:20220406T144826Z
UID:2575-1649509200-1649516400@tarrytownenvironmental.org
SUMMARY:Changing Landscapes Walk
DESCRIPTION:Nature walk at Peabody Preserve \nSign Up HERE
URL:https://tarrytownenvironmental.org/event/changing-landscapes-walk/
LOCATION:Peabody Preserve\, Route 9\, Sleepy Hollow\, NY\, 10591\, United States
CATEGORIES:Earth Day,Outdoor Event
ORGANIZER;CN="TEAC":MAILTO:info@tarrytownenvironmental.org
END:VEVENT
BEGIN:VEVENT
DTSTART;TZID=America/New_York:20220409T130000
DTEND;TZID=America/New_York:20220409T160000
DTSTAMP:20260423T230844
CREATED:20220405T213047Z
LAST-MODIFIED:20220405T213157Z
UID:2578-1649509200-1649520000@tarrytownenvironmental.org
SUMMARY:Community Garden Spring Prep
DESCRIPTION:Help us prep the Paulding Community Garden for spring planting. Work will include bed repairs\, bed clean up\, pour topsoil and compost! \nSIGN UP HERE! \n 
URL:https://tarrytownenvironmental.org/event/community-garden-spring-prep/
LOCATION:John Paulding School\, on the corner of Broadway and Cobb Lane\, Cobb Lane\, Tarrytown\, NY\, 10591\, United States
CATEGORIES:Earth Day,Outdoor Event
ATTACH;FMTTYPE=image/jpeg:https://tarrytownenvironmental.org/wp-content/uploads/2022/04/Paulding-Garden-5-scaled-e1711460316372.jpg
ORGANIZER;CN="TEAC":MAILTO:info@tarrytownenvironmental.org
END:VEVENT
BEGIN:VEVENT
DTSTART;TZID=America/New_York:20220416T100000
DTEND;TZID=America/New_York:20220416T120000
DTSTAMP:20260423T230844
CREATED:20220405T213756Z
LAST-MODIFIED:20220406T223837Z
UID:2582-1650103200-1650110400@tarrytownenvironmental.org
SUMMARY:Village Wide Clean Up
DESCRIPTION:Meet at Patriots Park and help us clean up areas around the park and the Village! \nSIGN UP HERE!
URL:https://tarrytownenvironmental.org/event/village-wide-clean-up/
LOCATION:Patriots Park\, Patriots Park\, Tarrytown\, NY\, NY\, 10591\, United States
CATEGORIES:Earth Day,Outdoor Event,Zero Waste
ATTACH;FMTTYPE=image/jpeg:https://tarrytownenvironmental.org/wp-content/uploads/2022/04/Bins-scaled.jpg
ORGANIZER;CN="TEAC":MAILTO:info@tarrytownenvironmental.org
END:VEVENT
BEGIN:VEVENT
DTSTART;TZID=America/New_York:20220423T080000
DTEND;TZID=America/New_York:20220423T220000
DTSTAMP:20260423T230844
CREATED:20220405T220708Z
LAST-MODIFIED:20220405T220708Z
UID:2599-1650700800-1650751200@tarrytownenvironmental.org
SUMMARY:Bird Watching Walk
DESCRIPTION:Join us a for a morning bird walk around the Lakes! \nSIGN UP HERE
URL:https://tarrytownenvironmental.org/event/bird-watching-walk/
LOCATION:Tarrytown Lakes Parking Lot\, Neperan and Sunnyside\, Tarrytown\, NY\, 10591\, United States
CATEGORIES:Earth Day,Outdoor Event
ATTACH;FMTTYPE=image/jpeg:https://tarrytownenvironmental.org/wp-content/uploads/2022/04/EARTH_DAY_2019_20_WIDE-Medium.jpg
ORGANIZER;CN="TEAC":MAILTO:info@tarrytownenvironmental.org
END:VEVENT
BEGIN:VEVENT
DTSTART;TZID=America/New_York:20220423T090000
DTEND;TZID=America/New_York:20220423T120000
DTSTAMP:20260423T230844
CREATED:20220405T220136Z
LAST-MODIFIED:20220405T220857Z
UID:2596-1650704400-1650715200@tarrytownenvironmental.org
SUMMARY:Neperan Park Clean Up
DESCRIPTION:Meet at Neperan Park and help us remove trash\, brush and other stuff around the Park! \nSIGN UP HERE!
URL:https://tarrytownenvironmental.org/event/neperan-park-clean-up/
LOCATION:Neperan Park\, Neperan Road\, Tarrytown\, NY\, 10591\, United States
CATEGORIES:Earth Day,Outdoor Event
ATTACH;FMTTYPE=image/jpeg:https://tarrytownenvironmental.org/wp-content/uploads/2022/04/IMG_3711-scaled.jpg
ORGANIZER;CN="TEAC":MAILTO:info@tarrytownenvironmental.org
END:VEVENT
BEGIN:VEVENT
DTSTART;TZID=America/New_York:20220423T100000
DTEND;TZID=America/New_York:20220423T140000
DTSTAMP:20260423T230844
CREATED:20220405T215633Z
LAST-MODIFIED:20220405T215633Z
UID:2592-1650708000-1650722400@tarrytownenvironmental.org
SUMMARY:Tarrytown Lakes Clean Up
DESCRIPTION:Meet at the Tarrytown Lakes parking lot and help us remove trash \, brush and other stuff around the Lakes! \nSIGN UP HERE!
URL:https://tarrytownenvironmental.org/event/tarrytown-lakes-clean-up/
LOCATION:Tarrytown Lakes Parking Lot\, Neperan and Sunnyside\, Tarrytown\, NY\, 10591\, United States
CATEGORIES:Earth Day,Outdoor Event
ATTACH;FMTTYPE=image/jpeg:https://tarrytownenvironmental.org/wp-content/uploads/2022/04/IMG_2411-scaled.jpg
ORGANIZER;CN="TEAC":MAILTO:info@tarrytownenvironmental.org
END:VEVENT
BEGIN:VEVENT
DTSTART;TZID=America/New_York:20220423T100000
DTEND;TZID=America/New_York:20220423T140000
DTSTAMP:20260423T230844
CREATED:20220405T214359Z
LAST-MODIFIED:20220405T214359Z
UID:2586-1650708000-1650722400@tarrytownenvironmental.org
SUMMARY:Vines Clean-Up at Wilson Park
DESCRIPTION:Meet at Wilson Park and help us remove invasive vines around the Park! \nSIGN UP HERE!
URL:https://tarrytownenvironmental.org/event/vines-clean-up-at-wilson-park/
LOCATION:Wilson Park\, Beech Lane and Wilson Park Drive\, Tarrytown\, NY\, 10591\, United States
CATEGORIES:Earth Day,Outdoor Event
ATTACH;FMTTYPE=image/jpeg:https://tarrytownenvironmental.org/wp-content/uploads/2022/04/EARTH_DAY_2019_7-Medium.jpg
ORGANIZER;CN="TEAC":MAILTO:info@tarrytownenvironmental.org
END:VEVENT
BEGIN:VEVENT
DTSTART;TZID=America/New_York:20220424T100000
DTEND;TZID=America/New_York:20220424T160000
DTSTAMP:20260423T230844
CREATED:20220405T221352Z
LAST-MODIFIED:20220405T221352Z
UID:2603-1650794400-1650816000@tarrytownenvironmental.org
SUMMARY:Clothing/Housewares Swap
DESCRIPTION:Join us in Patriots Park for a “SWAP” event – Bring stuff\, take stuff! \nCome by to participate or… SIGN UP TO VOLUNTEER HERE
URL:https://tarrytownenvironmental.org/event/clothing-housewares-swap/
LOCATION:Patriots Park\, Patriots Park\, Tarrytown\, NY\, NY\, 10591\, United States
CATEGORIES:Earth Day,Outdoor Event,Zero Waste
ORGANIZER;CN="TEAC":MAILTO:info@tarrytownenvironmental.org
END:VEVENT
END:VCALENDAR